BEGIN:VCALENDAR
VERSION:2.0
PRODID:-//Gannons Tavern - ECPv5.7.1//NONSGML v1.0//EN
CALSCALE:GREGORIAN
METHOD:PUBLISH
X-WR-CALNAME:Gannons Tavern
X-ORIGINAL-URL:https://gannonstavern.com
X-WR-CALDESC:Events for Gannons Tavern
BEGIN:VTIMEZONE
TZID:UTC
BEGIN:STANDARD
TZOFFSETFROM:+0000
TZOFFSETTO:+0000
TZNAME:UTC
DTSTART:20240101T000000
END:STANDARD
END:VTIMEZONE
BEGIN:VEVENT
DTSTART;TZID=UTC:20240726T191000
DTEND;TZID=UTC:20240728T210000
DTSTAMP:20260420T113934
CREATED:20240724T174616Z
LAST-MODIFIED:20240724T174616Z
UID:1184-1722021000-1722200400@gannonstavern.com
SUMMARY:⚾ Red Sox vs Yankees
DESCRIPTION:⚾ Red Sox vs Yankees\nFriday\, July 26th at 7:10pm\nSaturday\, July 27th at 7:15pm\nSunday\, July 28th at 7:10pm
URL:https://gannonstavern.com/event/%e2%9a%be-red-sox-vs-yankees-3/
END:VEVENT
BEGIN:VEVENT
DTSTART;TZID=UTC:20240727T173000
DTEND;TZID=UTC:20240727T190000
DTSTAMP:20260420T113934
CREATED:20240710T143052Z
LAST-MODIFIED:20240710T143052Z
UID:1164-1722101400-1722106800@gannonstavern.com
SUMMARY:🎶Live Music With Lee Surrette
DESCRIPTION:
URL:https://gannonstavern.com/event/%f0%9f%8e%b6live-music-with-lee-surrette-19/
END:VEVENT
END:VCALENDAR